Workbook

Sheet 2024_1
A1: INSTITUTO DE DEFESA AGROPECUÁRIA E FLORESTAL DO ACRE - IDAF
A2: COORDENAÇÃO ESTADUAL DO PROGRAMA DE CONTROLE E ERRADICAÇÃO DA BRUCELOSE E TUBERCULOSE
A3: ETAPA DE VACINAÇÃO DA BRUCELOSE: | C3: I Etapa de vacinação contra brucelose ano 2024.
A4: PERÍODO DE VACINAÇÃO | C4: 01/01/2024 A 30/06/2024
A5: RESPONSÁVEL | C5: JEAN CARLOS TORRES DA SILVA
A6: MUNICÍPIOS | B6: Cod_IBGE | C6: TOT BOV - Fêmeas - 0 a 12 meses | D6: TOT BUB - Fêmeas - 0 a 12 meses | E6: TOTBOVFÊMEAS (3-8 meses) vacinadas com B19 | F6: TOTBUBFÊMEAS(3 - 8 meses) vacinadas B19 | G6: Total fêmeas vacinadas B19 | H6: Total bovinas fêmeas de 3 - 8 meses vacinadas com RB51 | I6: Total fêmeas bovinas > 8 meses vacinadas com RB51 | J6: Total fêmeas vacinadas RB51 | K6: Total Fêmeas (3-8m) vacinadas com ambas as vacinas
A7: ACRE | B7: TOTAL | C7: =SUM(C8:C29) -> 444621 | D7: =SUM(D8:D29) -> 483 | E7: =SUM(E8:E29) -> 206835 | F7: =SUM(F8:F29) -> 36 | G7: =SUM(E7+F7) -> 206871 | H7: =SUM(H8:H29) -> 18623 | I7: =SUM(I8:I29) -> 8743 | J7: =H7+I7 -> 27366 | K7: =SUM(E7,F7,H7) -> 225494
A8: Acrelândia | B8: 1200013 | C8: 25103 | D8: 5 | E8: 12387 | F8: 0 | G8: =SUM(E8,F8) -> 12387 | H8: 787 | I8: 213 | J8: =H8+I8 -> 1000 | K8: =E8+F8+H8 -> 13174
A9: Assis Brasil | B9: 1200054 | C9: 8699 | D9: 4 | E9: 6178 | F9: 0 | G9: =SUM(E9,F9) -> 6178 | H9: 0 | I9: 0 | J9: =H9+I9 -> 0 | K9: =E9+F9+H9 -> 6178
A10: Brasiléia | B10: 1200104 | C10: 35313 | D10: 21 | E10: 23039 | F10: 7 | G10: =SUM(E10,F10) -> 23046 | H10: 203 | I10: 153 | J10: =H10+I10 -> 356 | K10: =E10+F10+H10 -> 23249
A11: Bujari | B11: 1200138 | C11: 30485 | D11: 27 | E11: 15244 | F11: 0 | G11: =SUM(E11,F11) -> 15244 | H11: 799 | I11: 413 | J11: =H11+I11 -> 1212 | K11: =E11+F11+H11 -> 16043
A12: Capixaba | B12: 1200179 | C12: 17558 | D12: 0 | E12: 10841 | F12: 0 | G12: =SUM(E12,F12) -> 10841 | H12: 320 | I12: 180 | J12: =H12+I12 -> 500 | K12: =E12+F12+H12 -> 11161
A13: Cruzeiro do Sul | B13: 1200203 | C13: 4891 | D13: 37 | E13: 749 | F13: 4 | G13: =SUM(E13,F13) -> 753 | H13: 183 | I13: 247 | J13: =H13+I13 -> 430 | K13: =E13+F13+H13 -> 936
A14: Epitaciolândia | B14: 1200252 | C14: 15723 | D14: 10 | E14: 8583 | F14: 0 | G14: =SUM(E14,F14) -> 8583 | H14: 265 | I14: 264 | J14: =H14+I14 -> 529 | K14: =E14+F14+H14 -> 8848
A15: Feijó | B15: 1200302 | C15: 25604 | D15: 45 | E15: 10935 | F15: 1 | G15: =SUM(E15,F15) -> 10936 | H15: 841 | I15: 855 | J15: =H15+I15 -> 1696 | K15: =E15+F15+H15 -> 11777
A16: Jordão | B16: 1200328 | C16: 1434 | D16: 0 | E16: 525 | F16: 0 | G16: =SUM(E16,F16) -> 525 | H16: 0 | I16: 8 | J16: =H16+I16 -> 8 | K16: =E16+F16+H16 -> 525
A17: Mâncio Lima | B17: 1200336 | C17: 2381 | D17: 11 | E17: 986 | F17: 0 | G17: =SUM(E17,F17) -> 986 | H17: 121 | I17: 73 | J17: =H17+I17 -> 194 | K17: =E17+F17+H17 -> 1107
A18: Manoel Urbano | B18: 1200344 | C18: 12559 | D18: 11 | E18: 3072 | F18: 0 | G18: =SUM(E18,F18) -> 3072 | H18: 1406 | I18: 231 | J18: =H18+I18 -> 1637 | K18: =E18+F18+H18 -> 4478
A19: Marechal Thaumaturgo | B19: 1200351 | C19: 1582 | D19: 0 | E19: 30 | F19: 0 | G19: =SUM(E19,F19) -> 30 | H19: 65 | I19: 0 | J19: =H19+I19 -> 65 | K19: =E19+F19+H19 -> 95
... A29: Xapuri | B29: 1200708 | C29: 29382 | D29: 18 | E29: 15554 | F29: 0 | G29: =SUM(E29,F29) -> 15554 | H29: 355 | I29: 139 | J29: =H29+I29 -> 494 | K29: =E29+F29+H29 -> 15909

Sheet 2024_2
A1: INSTITUTO DE DEFESA AGROPECUÁRIA E FLORESTAL DO ACRE - IDAF
A2: COORDENAÇÃO ESTADUAL DO PROGRAMA DE CONTROLE E ERRADICAÇÃO DA BRUCELOSE E TUBERCULOSE
A3: ETAPA DE VACINAÇÃO DA BRUCELOSE: | C3: II Etapa de vacinação contra brucelose ano 2024.
A4: PERÍODO DE VACINAÇÃO | C4: 01/07/2024 A 31/12/2024
A5: RESPONSÁVEL | C5: JEAN CARLOS TORRES DA SILVA
A6: MUNICÍPIOS | B6: Cod_IBGE | C6: Nº BOV - Fêmeas - 0 a 12 meses | D6: Nº BUB - Fêmeas - 0 a 12 meses | E6: Nº BOV FÊMEAS (3-8 meses) vacinadas com B19 | F6: NºBUBFÊMEAS(3 - 8 meses) vacinadas B19 | G6: Total fêmeas vacinadas B19 | H6: Total bovinas fêmeas de 3 - 8 meses vacinadas com RB51 | I6: Total fêmeas bovinas > 8 meses vacinadas com RB51 | J6: Total fêmeas vacinadas RB51 | K6: Total Fêmeas (3-8m) vacinadas com ambas as vacinas
A7: ACRE | B7: TOTAL | C7: =SUM(C8:C29) -> 711197 | D7: =SUM(D8:D29) -> 443 | E7: =SUM(E8:E29) -> 328484 | F7: =SUM(F8:F29) -> 165 | G7: =SUM(E7+F7) -> 328649 | H7: =SUM(H8:H29) -> 10437 | I7: =SUM(I8:I29) -> 7256 | J7: =H7+I7 -> 17693 | K7: =SUM(E7,F7,H7) -> 339086
A8: Acrelândia | B8: 1200013 | C8: 38986 | D8: 13 | E8: 17244 | F8: 2 | G8: =SUM(E8,F8) -> 17246 | H8: 1018 | I8: 413 | J8: =H8+I8 -> 1431 | K8: =E8+F8+H8 -> 18264
A9: Assis Brasil | B9: 1200054 | C9: 15203 | D9: 1 | E9: 6358 | F9: 0 | G9: =SUM(E9,F9) -> 6358 | H9: 24 | I9: 0 | J9: =H9+I9 -> 24 | K9: =E9+F9+H9 -> 6382
A10: Brasiléia | B10: 1200104 | C10: 58905 | D10: 18 | E10: 29248 | F10: 18 | G10: =SUM(E10,F10) -> 29266 | H10: 20 | I10: 55 | J10: =H10+I10 -> 75 | K10: =E10+F10+H10 -> 29286
A11: Bujari | B11: 1200138 | C11: 46807 | D11: 17 | E11: 21687 | F11: 0 | G11: =SUM(E11,F11) -> 21687 | H11: 572 | I11: 369 | J11: =H11+I11 -> 941 | K11: =E11+F11+H11 -> 22259
A12: Capixaba | B12: 1200179 | C12: 30109 | D12: 0 | E12: 12916 | F12: 0 | G12: =SUM(E12,F12) -> 12916 | H12: 492 | I12: 256 | J12: =H12+I12 -> 748 | K12: =E12+F12+H12 -> 13408
A13: Cruzeiro do Sul | B13: 1200203 | C13: 6594 | D13: 66 | E13: 1865 | F13: 35 | G13: =SUM(E13,F13) -> 1900 | H13: 186 | I13: 128 | J13: =H13+I13 -> 314 | K13: =E13+F13+H13 -> 2086
A14: Epitaciolândia | B14: 1200252 | C14: 24421 | D14: 4 | E14: 11070 | F14: 3 | G14: =SUM(E14,F14) -> 11073 | H14: 41 | I14: 12 | J14: =H14+I14 -> 53 | K14: =E14+F14+H14 -> 11114
A15: Feijó | B15: 1200302 | C15: 45721 | D15: 14 | E15: 18216 | F15: 4 | G15: =SUM(E15,F15) -> 18220 | H15: 583 | I15: 1239 | J15: =H15+I15 -> 1822 | K15: =E15+F15+H15 -> 18803
A16: Jordão | B16: 1200328 | C16: 2703 | D16: 0 | E16: 525 | F16: 0 | G16: =SUM(E16,F16) -> 525 | H16: 34 | I16: 0 | J16: =H16+I16 -> 34 | K16: =E16+F16+H16 -> 559
A17: Mâncio Lima | B17: 1200336 | C17: 4358 | D17: 15 | E17: 1306 | F17: 0 | G17: =SUM(E17,F17) -> 1306 | H17: 7 | I17: 9 | J17: =H17+I17 -> 16 | K17: =E17+F17+H17 -> 1313
A18: Manoel Urbano | B18: 1200344 | C18: 17475 | D18: 12 | E18: 7426 | F18: 12 | G18: =SUM(E18,F18) -> 7438 | H18: 628 | I18: 68 | J18: =H18+I18 -> 696 | K18: =E18+F18+H18 -> 8066
A19: Marechal Thaumaturgo | B19: 1200351 | C19: 2981 | D19: 0 | E19: 117 | F19: 0 | G19: =SUM(E19,F19) -> 117 | H19: 0 | I19: 0 | J19: =H19+I19 -> 0 | K19: =E19+F19+H19 -> 117
... A29: Xapuri | B29: 1200708 | C29: 50052 | D29: 19 | E29: 28565 | F29: 19 | G29: =SUM(E29,F29) -> 28584 | H29: 4 | I29: 169 | J29: =H29+I29 -> 173 | K29: =E29+F29+H29 -> 28588

Sheet 2024_Anual
A1: INSTITUTO DE DEFESA AGROPECUÁRIA E FLORESTAL DO ACRE - IDAF
A2: COORDENAÇÃO ESTADUAL DO PROGRAMA DE CONTROLE E ERRADICAÇÃO DA BRUCELOSE E TUBERCULOSE
A3: RELATÓRIO DE VACINAÇÃO CONTRA BRUCELOSE BOVÍDEA - ANO DE 2024
A4: RESPONSÁVEL | B4: JEAN CARLOS TORRES DA SILVA
A5: MUNICÍPIOS | B5: Cod_IBGE | C5: Nº BOV Fêmeas 0 a 12 meses | D5: Nº BUB Fêmeas- 0 a 12 meses | E5: Nº BOV FÊMEAS 3-8 meses vacinadas com B19 | F5: Nº BUBFêmeas 3 - 8 meses vacinadas B19 | G5: Total fêmeas vacinadas B19 | H5: Total bovinas fêmeas de 3 - 8 meses vacinadas com RB51 | I5: Total fêmeas bovinas > 8 meses vacinadas com RB51 | J5: Total fêmeas vacinadas RB51 | K5: Total Fêmeas (3-8m) vacinadas com ambas as vacinas | L5: % Vacinação
A6: ACRE | B6: TOTAL | C6: =SUM(C7:C28) -> 711197 | D6: =SUM(D7:D28) -> 443 | E6: =SUM(E7:E28) -> 535319 | F6: =SUM(F7:F28) -> 201 | G6: =SUM(E6+F6) -> 535520 | H6: =SUM(H7:H28) -> 29060 | I6: =SUM(I7:I28) -> 15999 | J6: =H6+I6 -> 45059 | K6: =G6+H6 -> 564580 | L6: =K6/(C6+D6) -> 0.79335057
A7: Acrelândia | B7: 1200013 | C7: 38986 | D7: 13 | E7: =SUM('2024_1'!E8,'2024_2'!E8) -> 29631 | F7: =SUM('2024_1'!F8,'2024_2'!F8) -> 2 | G7: =SUM(E7,F7) -> 29633 | H7: =SUM('2024_1'!H8,'2024_2'!H8) -> 1805 | I7: =SUM('2024_1'!I8,'2024_2'!I8) -> 626 | J7: =H7+I7 -> 2431 | K7: =[1]Planilha1!$K$8 -> 31493 | L7: =K7/C7 -> 0.8078028
A8: Assis Brasil | B8: 1200054 | C8: 15203 | D8: 1 | E8: =SUM('2024_1'!E9,'2024_2'!E9) -> 12536 | F8: =SUM('2024_1'!F9,'2024_2'!F9) -> 0 | G8: =SUM(E8,F8) -> 12536 | H8: =SUM('2024_1'!H9,'2024_2'!H9) -> 24 | I8: =SUM('2024_1'!I9,'2024_2'!I9) -> 0 | J8: =H8+I8 -> 24 | K8: =E8+F8+H8 -> 12560 | L8: =K8/C8 -> 0.82615273
A9: Brasiléia | B9: 1200104 | C9: 58905 | D9: 18 | E9: =SUM('2024_1'!E10,'2024_2'!E10) -> 52287 | F9: =SUM('2024_1'!F10,'2024_2'!F10) -> 25 | G9: =SUM(E9,F9) -> 52312 | H9: =SUM('2024_1'!H10,'2024_2'!H10) -> 223 | I9: =SUM('2024_1'!I10,'2024_2'!I10) -> 208 | J9: =H9+I9 -> 431 | K9: =E9+F9+H9 -> 52535 | L9: =K9/C9 -> 0.89185977
A10: Bujari | B10: 1200138 | C10: 46807 | D10: 17 | E10: =SUM('2024_1'!E11,'2024_2'!E11) -> 36931 | F10: =SUM('2024_1'!F11,'2024_2'!F11) -> 0 | G10: =SUM(E10,F10) -> 36931 | H10: =SUM('2024_1'!H11,'2024_2'!H11) -> 1371 | I10: =SUM('2024_1'!I11,'2024_2'!I11) -> 782 | J10: =H10+I10 -> 2153 | K10: =E10+F10+H10 -> 38302 | L10: =K10/C10 -> 0.81829641
A11: Capixaba | B11: 1200179 | C11: 30109 | D11: 0 | E11: =SUM('2024_1'!E12,'2024_2'!E12) -> 23757 | F11: =SUM('2024_1'!F12,'2024_2'!F12) -> 0 | G11: =SUM(E11,F11) -> 23757 | H11: =SUM('2024_1'!H12,'2024_2'!H12) -> 812 | I11: =SUM('2024_1'!I12,'2024_2'!I12) -> 436 | J11: =H11+I11 -> 1248 | K11: =E11+F11+H11 -> 24569 | L11: =K11/C11 -> 0.81600186
A12: Cruzeiro do Sul | B12: 1200203 | C12: 6594 | D12: 66 | E12: =SUM('2024_1'!E13,'2024_2'!E13) -> 2614 | F12: =SUM('2024_1'!F13,'2024_2'!F13) -> 39 | G12: =SUM(E12,F12) -> 2653 | H12: =SUM('2024_1'!H13,'2024_2'!H13) -> 369 | I12: =SUM('2024_1'!I13,'2024_2'!I13) -> 375 | J12: =H12+I12 -> 744 | K12: =E12+F12+H12 -> 3022 | L12: =K12/C12 -> 0.45829542
A13: Epitaciolândia | B13: 1200252 | C13: 24421 | D13: 4 | E13: =SUM('2024_1'!E14,'2024_2'!E14) -> 19653 | F13: =SUM('2024_1'!F14,'2024_2'!F14) -> 3 | G13: =SUM(E13,F13) -> 19656 | H13: =SUM('2024_1'!H14,'2024_2'!H14) -> 306 | I13: =SUM('2024_1'!I14,'2024_2'!I14) -> 276 | J13: =H13+I13 -> 582 | K13: =E13+F13+H13 -> 19962 | L13: =K13/C13 -> 0.81741124
A14: Feijó | B14: 1200302 | C14: 45721 | D14: 14 | E14: =SUM('2024_1'!E15,'2024_2'!E15) -> 29151 | F14: =SUM('2024_1'!F15,'2024_2'!F15) -> 5 | G14: =SUM(E14,F14) -> 29156 | H14: =SUM('2024_1'!H15,'2024_2'!H15) -> 1424 | I14: =SUM('2024_1'!I15,'2024_2'!I15) -> 2094 | J14: =H14+I14 -> 3518 | K14: =E14+F14+H14 -> 30580 | L14: =K14/C14 -> 0.66883926
A15: Jordão | B15: 1200328 | C15: 2703 | D15: 0 | E15: =SUM('2024_1'!E16,'2024_2'!E16) -> 1050 | F15: =SUM('2024_1'!F16,'2024_2'!F16) -> 0 | G15: =SUM(E15,F15) -> 1050 | H15: =SUM('2024_1'!H16,'2024_2'!H16) -> 34 | I15: =SUM('2024_1'!I16,'2024_2'!I16) -> 8 | J15: =H15+I15 -> 42 | K15: =E15+F15+H15 -> 1084 | L15: =K15/C15 -> 0.40103589
A16: Mâncio Lima | B16: 1200336 | C16: 4358 | D16: 15 | E16: =SUM('2024_1'!E17,'2024_2'!E17) -> 2292 | F16: =SUM('2024_1'!F17,'2024_2'!F17) -> 0 | G16: =SUM(E16,F16) -> 2292 | H16: =SUM('2024_1'!H17,'2024_2'!H17) -> 128 | I16: =SUM('2024_1'!I17,'2024_2'!I17) -> 82 | J16: =H16+I16 -> 210 | K16: =E16+F16+H16 -> 2420 | L16: =K16/C16 -> 0.5553006
A17: Manoel Urbano | B17: 1200344 | C17: 17475 | D17: 12 | E17: =SUM('2024_1'!E18,'2024_2'!E18) -> 10498 | F17: =SUM('2024_1'!F18,'2024_2'!F18) -> 12 | G17: =SUM(E17,F17) -> 10510 | H17: =SUM('2024_1'!H18,'2024_2'!H18) -> 2034 | I17: =SUM('2024_1'!I18,'2024_2'!I18) -> 299 | J17: =H17+I17 -> 2333 | K17: =E17+F17+H17 -> 12544 | L17: =K17/C17 -> 0.71782546
A18: Marechal Thaumaturgo | B18: 1200351 | C18: 2981 | D18: 0 | E18: =SUM('2024_1'!E19,'2024_2'!E19) -> 147 | F18: =SUM('2024_1'!F19,'2024_2'!F19) -> 0 | G18: =SUM(E18,F18) -> 147 | H18: =SUM('2024_1'!H19,'2024_2'!H19) -> 65 | I18: =SUM('2024_1'!I19,'2024_2'!I19) -> 0 | J18: =H18+I18 -> 65 | K18: =E18+F18+H18 -> 212 | L18: =K18/C18 -> 0.071117075
A19: Plácido de Castro | B19: 1200385 | C19: 45662 | D19: 52 | E19: =SUM('2024_1'!E20,'2024_2'!E20) -> 36084 | F19: =SUM('2024_1'!F20,'2024_2'!F20) -> 33 | G19: =SUM(E19,F19) -> 36117 | H19: =SUM('2024_1'!H20,'2024_2'!H20) -> 1084 | I19: =SUM('2024_1'!I20,'2024_2'!I20) -> 1251 | J19: =H19+I19 -> 2335 | K19: =E19+F19+H19 -> 37201 | L19: =K19/C19 -> 0.81470369
... A28: Xapuri | B28: 1200708 | C28: 50052 | D28: 19 | E28: =SUM('2024_1'!E29,'2024_2'!E29) -> 44119 | F28: =SUM('2024_1'!F29,'2024_2'!F29) -> 19 | G28: =SUM(E28,F28) -> 44138 | H28: =SUM('2024_1'!H29,'2024_2'!H29) -> 359 | I28: =SUM('2024_1'!I29,'2024_2'!I29) -> 308 | J28: =H28+I28 -> 667 | K28: =E28+F28+H28 -> 44497 | L28: =K28/C28 -> 0.88901542

Sheet Gráfico
A1: MUNICÍPIOS | B1: 2024 - Vacinação Estadual de Brucelose - 79,34%
A2: Acrelândia | B2: 0.8078028
A3: Assis Brasil | B3: 0.82615273
A4: Brasiléia | B4: 0.89185977
A5: Bujari | B5: 0.81829641
A6: Capixaba | B6: 0.81600186
A7: Cruzeiro do Sul | B7: 0.45829542
A8: Epitaciolândia | B8: 0.81741124
A9: Feijó | B9: 0.66883926
A10: Jordão | B10: 0.40103589
A11: Mâncio Lima | B11: 0.5553006
A12: Manoel Urbano | B12: 0.71782546
A13: Marechal Thaumaturgo | B13: 0.071117075
... A23: Xapuri | B23: 0.88901542
